BEGIN:VCALENDAR
VERSION:2.0
PRODID:JMS Hockey
X-PUBLISHED-TTL:P1W
BEGIN:VEVENT
UID:69e79a8913497
DTSTART:20220510T003000Z
SEQUENCE:0
TRANSP:OPAQUE
DTEND:20220510T014500Z
URL:http://jmshockey.com/league/game/1961
LOCATION:Eden Prairie Comm Ctr
SUMMARY:Minnesota Moose Knuckle vs. Flaming Phoques at Eden Prairie Comm Ct
 r (Loon State Hockey Leagues)
CLASS:PUBLIC
DTSTAMP:20260421T104057Z
END:VEVENT
END:VCALENDAR