BEGIN:VCALENDAR
VERSION:2.0
PRODID:JMS Hockey
X-PUBLISHED-TTL:P1W
BEGIN:VEVENT
UID:69e798014264a
DTSTART:20220419T020000Z
SEQUENCE:0
TRANSP:OPAQUE
DTEND:20220419T031500Z
URL:http://jmshockey.com/league/game/1956
LOCATION:Eden Prairie Comm Ctr
SUMMARY:Flaming Phoques vs. Minnesota Moose Knuckle at Eden Prairie Comm Ct
 r (Loon State Hockey Leagues)
CLASS:PUBLIC
DTSTAMP:20260421T103009Z
END:VEVENT
END:VCALENDAR