BEGIN:VCALENDAR
VERSION:2.0
PRODID:JMS Hockey
X-PUBLISHED-TTL:P1W
BEGIN:VEVENT
UID:69e78819c70b9
DTSTART:20150511T000000Z
SEQUENCE:0
TRANSP:OPAQUE
DTEND:20150511T011500Z
URL:http://jmshockey.com/league/game/190
LOCATION:Maple Grove
SUMMARY:Mid Ice Crisis vs. Nelson Scandella at Maple Grove (Loon State Hock
 ey Leagues)
CLASS:PUBLIC
DTSTAMP:20260421T092217Z
END:VEVENT
END:VCALENDAR