BEGIN:VCALENDAR
VERSION:2.0
PRODID:JMS Hockey
X-PUBLISHED-TTL:P1W
BEGIN:VEVENT
UID:69e7ae06d4d90
DTSTART:20150504T013000Z
SEQUENCE:0
TRANSP:OPAQUE
DTEND:20150504T024500Z
URL:http://jmshockey.com/league/game/188
LOCATION:Maple Grove
SUMMARY:Mid Ice Crisis vs. Puckheads at Maple Grove (Loon State Hockey Leag
 ues)
CLASS:PUBLIC
DTSTAMP:20260421T120406Z
END:VEVENT
END:VCALENDAR