BEGIN:VCALENDAR
VERSION:2.0
PRODID:JMS Hockey
X-PUBLISHED-TTL:P1W
BEGIN:VEVENT
UID:69e7ae0d45933
DTSTART:20150413T021500Z
SEQUENCE:0
TRANSP:OPAQUE
DTEND:20150413T033000Z
URL:http://jmshockey.com/league/game/183
LOCATION:Maple Grove
SUMMARY:Nelson Scandella vs. Yetis at Maple Grove (Loon State Hockey League
 s)
CLASS:PUBLIC
DTSTAMP:20260421T120413Z
END:VEVENT
END:VCALENDAR