BEGIN:VCALENDAR
VERSION:2.0
PRODID:JMS Hockey
X-PUBLISHED-TTL:P1W
BEGIN:VEVENT
UID:69e7af9629c12
DTSTART:20150323T003000Z
SEQUENCE:0
TRANSP:OPAQUE
DTEND:20150323T014500Z
URL:http://jmshockey.com/league/game/178
LOCATION:Maple Grove
SUMMARY:Puckheads vs. Yetis at Maple Grove (Loon State Hockey Leagues)
CLASS:PUBLIC
DTSTAMP:20260421T121046Z
END:VEVENT
END:VCALENDAR