BEGIN:VCALENDAR
VERSION:2.0
PRODID:JMS Hockey
X-PUBLISHED-TTL:P1W
BEGIN:VEVENT
UID:69e7afd9d9655
DTSTART:20150413T000000Z
SEQUENCE:0
TRANSP:OPAQUE
DTEND:20150413T013000Z
URL:http://jmshockey.com/league/game/172
LOCATION:Augsburg
SUMMARY:Minnesota Mild vs. Loons at Augsburg (Loon State Hockey Leagues)
CLASS:PUBLIC
DTSTAMP:20260421T121153Z
END:VEVENT
END:VCALENDAR