BEGIN:VCALENDAR
VERSION:2.0
PRODID:JMS Hockey
X-PUBLISHED-TTL:P1W
BEGIN:VEVENT
UID:69e7616ad2eeb
DTSTART:20191105T031500Z
SEQUENCE:0
TRANSP:OPAQUE
DTEND:20191105T043000Z
URL:http://jmshockey.com/league/game/1700
LOCATION:Eden Prairie Comm Ctr
SUMMARY:No Pucks Given vs. Zambronies at Eden Prairie Comm Ctr (Loon State 
 Hockey Leagues)
CLASS:PUBLIC
DTSTAMP:20260421T063714Z
END:VEVENT
END:VCALENDAR