BEGIN:VCALENDAR
VERSION:2.0
PRODID:JMS Hockey
X-PUBLISHED-TTL:P1W
BEGIN:VEVENT
UID:69e783df7cb35
DTSTART:20150330T000000Z
SEQUENCE:0
TRANSP:OPAQUE
DTEND:20150330T013000Z
URL:http://jmshockey.com/league/game/170
LOCATION:Augsburg
SUMMARY:Minnesota Mild vs. Loons at Augsburg (Loon State Hockey Leagues)
CLASS:PUBLIC
DTSTAMP:20260421T090415Z
END:VEVENT
END:VCALENDAR