BEGIN:VCALENDAR
VERSION:2.0
PRODID:JMS Hockey
X-PUBLISHED-TTL:P1W
BEGIN:VEVENT
UID:69e7616a54d02
DTSTART:20191029T021500Z
SEQUENCE:0
TRANSP:OPAQUE
DTEND:20191029T033000Z
URL:http://jmshockey.com/league/game/1698
LOCATION:Eden Prairie Comm Ctr
SUMMARY:No Pucks Given vs. US Eh? at Eden Prairie Comm Ctr (Loon State Hock
 ey Leagues)
CLASS:PUBLIC
DTSTAMP:20260421T063714Z
END:VEVENT
END:VCALENDAR