BEGIN:VCALENDAR
VERSION:2.0
PRODID:JMS Hockey
X-PUBLISHED-TTL:P1W
BEGIN:VEVENT
UID:69e78814576ec
DTSTART:20191008T004500Z
SEQUENCE:0
TRANSP:OPAQUE
DTEND:20191008T020000Z
URL:http://jmshockey.com/league/game/1691
LOCATION:Eden Prairie Comm Ctr
SUMMARY:Team Four vs. Zambronies at Eden Prairie Comm Ctr (Loon State Hocke
 y Leagues)
CLASS:PUBLIC
DTSTAMP:20260421T092212Z
END:VEVENT
END:VCALENDAR