BEGIN:VCALENDAR
VERSION:2.0
PRODID:JMS Hockey
X-PUBLISHED-TTL:P1W
BEGIN:VEVENT
UID:69e77b9a4fca6
DTSTART:20190924T001500Z
SEQUENCE:0
TRANSP:OPAQUE
DTEND:20190924T013000Z
URL:http://jmshockey.com/league/game/1687
LOCATION:Eden Prairie Comm Ctr
SUMMARY:No Pucks Given vs. Zambronies at Eden Prairie Comm Ctr (Loon State 
 Hockey Leagues)
CLASS:PUBLIC
DTSTAMP:20260421T082858Z
END:VEVENT
END:VCALENDAR