BEGIN:VCALENDAR
VERSION:2.0
PRODID:JMS Hockey
X-PUBLISHED-TTL:P1W
BEGIN:VEVENT
UID:69e77b71ec9ea
DTSTART:20190917T004500Z
SEQUENCE:0
TRANSP:OPAQUE
DTEND:20190917T020000Z
URL:http://jmshockey.com/league/game/1685
LOCATION:Eden Prairie Comm Ctr
SUMMARY:US Eh? vs. No Pucks Given at Eden Prairie Comm Ctr (Loon State Hock
 ey Leagues)
CLASS:PUBLIC
DTSTAMP:20260421T082817Z
END:VEVENT
END:VCALENDAR