BEGIN:VCALENDAR
VERSION:2.0
PRODID:JMS Hockey
X-PUBLISHED-TTL:P1W
BEGIN:VEVENT
UID:69e7c3e3df542
DTSTART:20191104T030000Z
SEQUENCE:0
TRANSP:OPAQUE
DTEND:20191104T041000Z
URL:http://jmshockey.com/league/game/1679
LOCATION:Doug Woog Arena (Wakota)
SUMMARY:Bette Midler's Farm Boys vs. Staal Tactics at Doug Woog Arena (Wako
 ta) (Loon State Hockey Leagues)
CLASS:PUBLIC
DTSTAMP:20260421T133723Z
END:VEVENT
END:VCALENDAR