BEGIN:VCALENDAR
VERSION:2.0
PRODID:JMS Hockey
X-PUBLISHED-TTL:P1W
BEGIN:VEVENT
UID:69e7c3e44356c
DTSTART:20191014T021000Z
SEQUENCE:0
TRANSP:OPAQUE
DTEND:20191014T032000Z
URL:http://jmshockey.com/league/game/1673
LOCATION:Doug Woog Arena (Wakota)
SUMMARY:Staal Tactics vs. Bette Midler's Farm Boys at Doug Woog Arena (Wako
 ta) (Loon State Hockey Leagues)
CLASS:PUBLIC
DTSTAMP:20260421T133724Z
END:VEVENT
END:VCALENDAR