BEGIN:VCALENDAR
VERSION:2.0
PRODID:JMS Hockey
X-PUBLISHED-TTL:P1W
BEGIN:VEVENT
UID:69e7afd8c3a3c
DTSTART:20150126T021500Z
SEQUENCE:0
TRANSP:OPAQUE
DTEND:20150126T034500Z
URL:http://jmshockey.com/league/game/166
LOCATION:Parade Ice Gardens
SUMMARY:Lords of the Rink vs. Guardians of the Goalixy at Parade Ice Garden
 s (Loon State Hockey Leagues)
CLASS:PUBLIC
DTSTAMP:20260421T121152Z
END:VEVENT
END:VCALENDAR