BEGIN:VCALENDAR
VERSION:2.0
PRODID:JMS Hockey
X-PUBLISHED-TTL:P1W
BEGIN:VEVENT
UID:69e79a8963758
DTSTART:20190709T000000Z
SEQUENCE:0
TRANSP:OPAQUE
DTEND:20190709T011500Z
URL:http://jmshockey.com/league/game/1655
LOCATION:Eden Prairie Comm Ctr
SUMMARY:Zero Pucks Given vs. No Regretskys at Eden Prairie Comm Ctr (Loon S
 tate Hockey Leagues)
CLASS:PUBLIC
DTSTAMP:20260421T104057Z
END:VEVENT
END:VCALENDAR