BEGIN:VCALENDAR
VERSION:2.0
PRODID:JMS Hockey
X-PUBLISHED-TTL:P1W
BEGIN:VEVENT
UID:69e79bf650d9e
DTSTART:20190702T000000Z
SEQUENCE:0
TRANSP:OPAQUE
DTEND:20190702T011500Z
URL:http://jmshockey.com/league/game/1653
LOCATION:Eden Prairie Comm Ctr
SUMMARY:US Eh? vs. Zero Pucks Given at Eden Prairie Comm Ctr (Loon State Ho
 ckey Leagues)
CLASS:PUBLIC
DTSTAMP:20260421T104702Z
END:VEVENT
END:VCALENDAR