BEGIN:VCALENDAR
VERSION:2.0
PRODID:JMS Hockey
X-PUBLISHED-TTL:P1W
BEGIN:VEVENT
UID:69e79a880f82a
DTSTART:20190625T013000Z
SEQUENCE:0
TRANSP:OPAQUE
DTEND:20190625T024500Z
URL:http://jmshockey.com/league/game/1652
LOCATION:Eden Prairie Comm Ctr
SUMMARY:US Eh? vs. No Regretskys at Eden Prairie Comm Ctr (Loon State Hocke
 y Leagues)
CLASS:PUBLIC
DTSTAMP:20260421T104056Z
END:VEVENT
END:VCALENDAR