BEGIN:VCALENDAR
VERSION:2.0
PRODID:JMS Hockey
X-PUBLISHED-TTL:P1W
BEGIN:VEVENT
UID:69e79bff754de
DTSTART:20190618T013000Z
SEQUENCE:0
TRANSP:OPAQUE
DTEND:20190618T024500Z
URL:http://jmshockey.com/league/game/1650
LOCATION:Eden Prairie Comm Ctr
SUMMARY:Dylan's Wall vs. US Eh? at Eden Prairie Comm Ctr (Loon State Hockey
  Leagues)
CLASS:PUBLIC
DTSTAMP:20260421T104711Z
END:VEVENT
END:VCALENDAR