BEGIN:VCALENDAR
VERSION:2.0
PRODID:JMS Hockey
X-PUBLISHED-TTL:P1W
BEGIN:VEVENT
UID:69e79bf74ecf4
DTSTART:20190618T000000Z
SEQUENCE:0
TRANSP:OPAQUE
DTEND:20190618T011500Z
URL:http://jmshockey.com/league/game/1649
LOCATION:Eden Prairie Comm Ctr
SUMMARY:No Regretskys vs. Zero Pucks Given at Eden Prairie Comm Ctr (Loon S
 tate Hockey Leagues)
CLASS:PUBLIC
DTSTAMP:20260421T104703Z
END:VEVENT
END:VCALENDAR