BEGIN:VCALENDAR
VERSION:2.0
PRODID:JMS Hockey
X-PUBLISHED-TTL:P1W
BEGIN:VEVENT
UID:69e79bf704f19
DTSTART:20190611T000000Z
SEQUENCE:0
TRANSP:OPAQUE
DTEND:20190611T011500Z
URL:http://jmshockey.com/league/game/1647
LOCATION:Eden Prairie Comm Ctr
SUMMARY:Dylan's Wall vs. No Regretskys at Eden Prairie Comm Ctr (Loon State
  Hockey Leagues)
CLASS:PUBLIC
DTSTAMP:20260421T104703Z
END:VEVENT
END:VCALENDAR