BEGIN:VCALENDAR
VERSION:2.0
PRODID:JMS Hockey
X-PUBLISHED-TTL:P1W
BEGIN:VEVENT
UID:69e77b9b488c7
DTSTART:20190617T024500Z
SEQUENCE:0
TRANSP:OPAQUE
DTEND:20190617T040000Z
URL:http://jmshockey.com/league/game/1631
LOCATION:Roseville Skating Center
SUMMARY:Bette Midler Select (West) vs. Staal Tactics at Roseville Skating C
 enter (Loon State Hockey Leagues)
CLASS:PUBLIC
DTSTAMP:20260421T082859Z
END:VEVENT
END:VCALENDAR