BEGIN:VCALENDAR
VERSION:2.0
PRODID:JMS Hockey
X-PUBLISHED-TTL:P1W
BEGIN:VEVENT
UID:69e79801aed9a
DTSTART:20190507T021500Z
SEQUENCE:0
TRANSP:OPAQUE
DTEND:20190507T033000Z
URL:http://jmshockey.com/league/game/1605
LOCATION:Eden Prairie Comm Ctr
SUMMARY:Shawty Wanna Puck vs. US Eh? at Eden Prairie Comm Ctr (Loon State H
 ockey Leagues)
CLASS:PUBLIC
DTSTAMP:20260421T103009Z
END:VEVENT
END:VCALENDAR