BEGIN:VCALENDAR
VERSION:2.0
PRODID:JMS Hockey
X-PUBLISHED-TTL:P1W
BEGIN:VEVENT
UID:69e79a890d76e
DTSTART:20190430T021500Z
SEQUENCE:0
TRANSP:OPAQUE
DTEND:20190430T033000Z
URL:http://jmshockey.com/league/game/1603
LOCATION:Eden Prairie Comm Ctr
SUMMARY:No Regretskys vs. US Eh? at Eden Prairie Comm Ctr (Loon State Hocke
 y Leagues)
CLASS:PUBLIC
DTSTAMP:20260421T104057Z
END:VEVENT
END:VCALENDAR