BEGIN:VCALENDAR
VERSION:2.0
PRODID:JMS Hockey
X-PUBLISHED-TTL:P1W
BEGIN:VEVENT
UID:69e7ae077f4d2
DTSTART:20150309T010000Z
SEQUENCE:0
TRANSP:OPAQUE
DTEND:20150309T021500Z
URL:http://jmshockey.com/league/game/160
LOCATION:Eden Prairie Comm Ctr
SUMMARY:BBB (Biscuit Burying Brotherhood) vs. *Mt. Filthy* at Eden Prairie 
 Comm Ctr (Loon State Hockey Leagues)
CLASS:PUBLIC
DTSTAMP:20260421T120407Z
END:VEVENT
END:VCALENDAR