BEGIN:VCALENDAR
VERSION:2.0
PRODID:JMS Hockey
X-PUBLISHED-TTL:P1W
BEGIN:VEVENT
UID:69e73f1bd0dbd
DTSTART:20190304T025000Z
SEQUENCE:0
TRANSP:OPAQUE
DTEND:20190304T040000Z
URL:http://jmshockey.com/league/game/1543
LOCATION:Doug Woog Arena (Wakota)
SUMMARY:LETTERKENNY vs. Dirty Mike and the Boys at Doug Woog Arena (Wakota)
  (Loon State Hockey Leagues)
CLASS:PUBLIC
DTSTAMP:20260421T041051Z
END:VEVENT
END:VCALENDAR