BEGIN:VCALENDAR
VERSION:2.0
PRODID:JMS Hockey
X-PUBLISHED-TTL:P1W
BEGIN:VEVENT
UID:69e7ae04794b8
DTSTART:20190304T013000Z
SEQUENCE:0
TRANSP:OPAQUE
DTEND:20190304T024000Z
URL:http://jmshockey.com/league/game/1542
LOCATION:Doug Woog Arena (Wakota)
SUMMARY:Farm Boys vs. Hot Dish 2.0 at Doug Woog Arena (Wakota) (Loon State 
 Hockey Leagues)
CLASS:PUBLIC
DTSTAMP:20260421T120404Z
END:VEVENT
END:VCALENDAR