BEGIN:VCALENDAR
VERSION:2.0
PRODID:JMS Hockey
X-PUBLISHED-TTL:P1W
BEGIN:VEVENT
UID:69e79fe191eca
DTSTART:20190225T025000Z
SEQUENCE:0
TRANSP:OPAQUE
DTEND:20190225T040000Z
URL:http://jmshockey.com/league/game/1540
LOCATION:Doug Woog Arena (Wakota)
SUMMARY:Farm Boys vs. Staal Tactics at Doug Woog Arena (Wakota) (Loon State
  Hockey Leagues)
CLASS:PUBLIC
DTSTAMP:20260421T110345Z
END:VEVENT
END:VCALENDAR