BEGIN:VCALENDAR
VERSION:2.0
PRODID:JMS Hockey
X-PUBLISHED-TTL:P1W
BEGIN:VEVENT
UID:69e73b397e084
DTSTART:20190225T013000Z
SEQUENCE:0
TRANSP:OPAQUE
DTEND:20190225T024000Z
URL:http://jmshockey.com/league/game/1539
LOCATION:Doug Woog Arena (Wakota)
SUMMARY:Rubber Puckies vs. Dirty Mike and the Boys at Doug Woog Arena (Wako
 ta) (Loon State Hockey Leagues)
CLASS:PUBLIC
DTSTAMP:20260421T035417Z
END:VEVENT
END:VCALENDAR