BEGIN:VCALENDAR
VERSION:2.0
PRODID:JMS Hockey
X-PUBLISHED-TTL:P1W
BEGIN:VEVENT
UID:69e79a861a557
DTSTART:20190211T025000Z
SEQUENCE:0
TRANSP:OPAQUE
DTEND:20190211T040000Z
URL:http://jmshockey.com/league/game/1534
LOCATION:Doug Woog Arena (Wakota)
SUMMARY:Farm Boys vs. LETTERKENNY at Doug Woog Arena (Wakota) (Loon State H
 ockey Leagues)
CLASS:PUBLIC
DTSTAMP:20260421T104054Z
END:VEVENT
END:VCALENDAR