BEGIN:VCALENDAR
VERSION:2.0
PRODID:JMS Hockey
X-PUBLISHED-TTL:P1W
BEGIN:VEVENT
UID:69e79a85ac070
DTSTART:20190114T013000Z
SEQUENCE:0
TRANSP:OPAQUE
DTEND:20190114T024000Z
URL:http://jmshockey.com/league/game/1524
LOCATION:Doug Woog Arena (Wakota)
SUMMARY:LETTERKENNY vs. Hot Dish 2.0 at Doug Woog Arena (Wakota) (Loon Stat
 e Hockey Leagues)
CLASS:PUBLIC
DTSTAMP:20260421T104053Z
END:VEVENT
END:VCALENDAR