BEGIN:VCALENDAR
VERSION:2.0
PRODID:JMS Hockey
X-PUBLISHED-TTL:P1W
BEGIN:VEVENT
UID:69e7ae0d51c9f
DTSTART:20150209T033000Z
SEQUENCE:0
TRANSP:OPAQUE
DTEND:20150209T044500Z
URL:http://jmshockey.com/league/game/152
LOCATION:Eden Prairie Comm Ctr
SUMMARY:*Mt. Filthy* vs. Iceoholics at Eden Prairie Comm Ctr (Loon State Ho
 ckey Leagues)
CLASS:PUBLIC
DTSTAMP:20260421T120413Z
END:VEVENT
END:VCALENDAR