BEGIN:VCALENDAR
VERSION:2.0
PRODID:JMS Hockey
X-PUBLISHED-TTL:P1W
BEGIN:VEVENT
UID:69e7afce55be0
DTSTART:20150126T033000Z
SEQUENCE:0
TRANSP:OPAQUE
DTEND:20150126T044500Z
URL:http://jmshockey.com/league/game/150
LOCATION:Eden Prairie Comm Ctr
SUMMARY:Iceoholics vs. BBB (Biscuit Burying Brotherhood) at Eden Prairie Co
 mm Ctr (Loon State Hockey Leagues)
CLASS:PUBLIC
DTSTAMP:20260421T121142Z
END:VEVENT
END:VCALENDAR