BEGIN:VCALENDAR
VERSION:2.0
PRODID:JMS Hockey
X-PUBLISHED-TTL:P1W
BEGIN:VEVENT
UID:69e79bffeeeae
DTSTART:20190304T023000Z
SEQUENCE:0
TRANSP:OPAQUE
DTEND:20190304T034500Z
URL:http://jmshockey.com/league/game/1498
LOCATION:Eden Prairie Comm Ctr
SUMMARY:Pipe Layers vs. EP UL WINTER 19 TEAM 3 at Eden Prairie Comm Ctr (Lo
 on State Hockey Leagues)
CLASS:PUBLIC
DTSTAMP:20260421T104711Z
END:VEVENT
END:VCALENDAR