BEGIN:VCALENDAR
VERSION:2.0
PRODID:JMS Hockey
X-PUBLISHED-TTL:P1W
BEGIN:VEVENT
UID:69e79a860213f
DTSTART:20190211T014500Z
SEQUENCE:0
TRANSP:OPAQUE
DTEND:20190211T030000Z
URL:http://jmshockey.com/league/game/1491
LOCATION:Eden Prairie Comm Ctr
SUMMARY:EP UL WINTER 19 TEAM 3 vs. Pipe Layers at Eden Prairie Comm Ctr (Lo
 on State Hockey Leagues)
CLASS:PUBLIC
DTSTAMP:20260421T104054Z
END:VEVENT
END:VCALENDAR