BEGIN:VCALENDAR
VERSION:2.0
PRODID:JMS Hockey
X-PUBLISHED-TTL:P1W
BEGIN:VEVENT
UID:69e78816c5a7c
DTSTART:20181203T013000Z
SEQUENCE:0
TRANSP:OPAQUE
DTEND:20181203T024000Z
URL:http://jmshockey.com/league/game/1476
LOCATION:Doug Woog Arena (Wakota)
SUMMARY:One Knight Stand vs. Dirty Mike and the Boys at Doug Woog Arena (Wa
 kota) (Loon State Hockey Leagues)
CLASS:PUBLIC
DTSTAMP:20260421T092214Z
END:VEVENT
END:VCALENDAR