BEGIN:VCALENDAR
VERSION:2.0
PRODID:JMS Hockey
X-PUBLISHED-TTL:P1W
BEGIN:VEVENT
UID:69e78c0823794
DTSTART:20181105T013000Z
SEQUENCE:0
TRANSP:OPAQUE
DTEND:20181105T024000Z
URL:http://jmshockey.com/league/game/1464
LOCATION:Doug Woog Arena (Wakota)
SUMMARY:One Knight Stand vs. Staal Tactics at Doug Woog Arena (Wakota) (Loo
 n State Hockey Leagues)
CLASS:PUBLIC
DTSTAMP:20260421T093904Z
END:VEVENT
END:VCALENDAR