BEGIN:VCALENDAR
VERSION:2.0
PRODID:JMS Hockey
X-PUBLISHED-TTL:P1W
BEGIN:VEVENT
UID:69e78c404ee07
DTSTART:20181029T015000Z
SEQUENCE:0
TRANSP:OPAQUE
DTEND:20181029T030000Z
URL:http://jmshockey.com/league/game/1463
LOCATION:Doug Woog Arena (Wakota)
SUMMARY:Puck Buddies vs. Staal Tactics at Doug Woog Arena (Wakota) (Loon St
 ate Hockey Leagues)
CLASS:PUBLIC
DTSTAMP:20260421T094000Z
END:VEVENT
END:VCALENDAR