BEGIN:VCALENDAR
VERSION:2.0
PRODID:JMS Hockey
X-PUBLISHED-TTL:P1W
BEGIN:VEVENT
UID:69e7afcf6b94a
DTSTART:20150112T033000Z
SEQUENCE:0
TRANSP:OPAQUE
DTEND:20150112T044500Z
URL:http://jmshockey.com/league/game/146
LOCATION:Eden Prairie Comm Ctr
SUMMARY:Iceoholics vs. *Mt. Filthy* at Eden Prairie Comm Ctr (Loon State Ho
 ckey Leagues)
CLASS:PUBLIC
DTSTAMP:20260421T121143Z
END:VEVENT
END:VCALENDAR