BEGIN:VCALENDAR
VERSION:2.0
PRODID:JMS Hockey
X-PUBLISHED-TTL:P1W
BEGIN:VEVENT
UID:69e7bbb415e79
DTSTART:20181015T014500Z
SEQUENCE:0
TRANSP:OPAQUE
DTEND:20181015T030000Z
URL:http://jmshockey.com/league/game/1439
LOCATION:Eden Prairie Comm Ctr
SUMMARY:ep ul fall 18 team 4 vs. Pipe Layers at Eden Prairie Comm Ctr (Loon
  State Hockey Leagues)
CLASS:PUBLIC
DTSTAMP:20260421T130228Z
END:VEVENT
END:VCALENDAR