BEGIN:VCALENDAR
VERSION:2.0
PRODID:JMS Hockey
X-PUBLISHED-TTL:P1W
BEGIN:VEVENT
UID:69e78e1c4bf93
DTSTART:20181029T004500Z
SEQUENCE:0
TRANSP:OPAQUE
DTEND:20181029T020000Z
URL:http://jmshockey.com/league/game/1428
LOCATION:Maple Grove
SUMMARY:Yetis vs. Mid-Ice Crisis at Maple Grove (Loon State Hockey Leagues)
CLASS:PUBLIC
DTSTAMP:20260421T094756Z
END:VEVENT
END:VCALENDAR