BEGIN:VCALENDAR
VERSION:2.0
PRODID:JMS Hockey
X-PUBLISHED-TTL:P1W
BEGIN:VEVENT
UID:69e77b9a5c924
DTSTART:20181008T023000Z
SEQUENCE:0
TRANSP:OPAQUE
DTEND:20181008T034500Z
URL:http://jmshockey.com/league/game/1422
LOCATION:Maple Grove
SUMMARY:Mid-Ice Crisis vs. Yetis at Maple Grove (Loon State Hockey Leagues)
CLASS:PUBLIC
DTSTAMP:20260421T082858Z
END:VEVENT
END:VCALENDAR