BEGIN:VCALENDAR
VERSION:2.0
PRODID:JMS Hockey
X-PUBLISHED-TTL:P1W
BEGIN:VEVENT
UID:69e79a87b28de
DTSTART:20181016T004500Z
SEQUENCE:0
TRANSP:OPAQUE
DTEND:20181016T020000Z
URL:http://jmshockey.com/league/game/1406
LOCATION:Eden Prairie Comm Ctr
SUMMARY:Quick with a Stick vs. No Regretskys at Eden Prairie Comm Ctr (Loon
  State Hockey Leagues)
CLASS:PUBLIC
DTSTAMP:20260421T104055Z
END:VEVENT
END:VCALENDAR