BEGIN:VCALENDAR
VERSION:2.0
PRODID:JMS Hockey
X-PUBLISHED-TTL:P1W
BEGIN:VEVENT
UID:69e7a40d31ba1
DTSTART:20181002T021500Z
SEQUENCE:0
TRANSP:OPAQUE
DTEND:20181002T033000Z
URL:http://jmshockey.com/league/game/1403
LOCATION:Eden Prairie Comm Ctr
SUMMARY:No Regretskys vs. U.S. Eh at Eden Prairie Comm Ctr (Loon State Hock
 ey Leagues)
CLASS:PUBLIC
DTSTAMP:20260421T112133Z
END:VEVENT
END:VCALENDAR