BEGIN:VCALENDAR
VERSION:2.0
PRODID:JMS Hockey
X-PUBLISHED-TTL:P1W
BEGIN:VEVENT
UID:69e7a40f400e7
DTSTART:20150323T024000Z
SEQUENCE:0
TRANSP:OPAQUE
DTEND:20150323T034000Z
URL:http://jmshockey.com/league/game/140
LOCATION:Inver Grove Heights Community Center
SUMMARY:Hatrick Swayze vs. No ReGretzkys at Inver Grove Heights Community C
 enter (Loon State Hockey Leagues)
CLASS:PUBLIC
DTSTAMP:20260421T112135Z
END:VEVENT
END:VCALENDAR