BEGIN:VCALENDAR
VERSION:2.0
PRODID:JMS Hockey
X-PUBLISHED-TTL:P1W
BEGIN:VEVENT
UID:69e79a8a5a0aa
DTSTART:20180911T014500Z
SEQUENCE:0
TRANSP:OPAQUE
DTEND:20180911T030000Z
URL:http://jmshockey.com/league/game/1397
LOCATION:Eden Prairie Comm Ctr
SUMMARY:Scott's Tots vs. Quick with a Stick at Eden Prairie Comm Ctr (Loon 
 State Hockey Leagues)
CLASS:PUBLIC
DTSTAMP:20260421T104058Z
END:VEVENT
END:VCALENDAR