BEGIN:VCALENDAR
VERSION:2.0
PRODID:JMS Hockey
X-PUBLISHED-TTL:P1W
BEGIN:VEVENT
UID:69e7d53811e43
DTSTART:20180813T011500Z
SEQUENCE:0
TRANSP:OPAQUE
DTEND:20180813T021500Z
URL:http://jmshockey.com/league/game/1393
LOCATION:Roseville Skating Center
SUMMARY:Wake up Paul! vs. Rubber Puckies at Roseville Skating Center (Loon 
 State Hockey Leagues)
CLASS:PUBLIC
DTSTAMP:20260421T145120Z
END:VEVENT
END:VCALENDAR