BEGIN:VCALENDAR
VERSION:2.0
PRODID:JMS Hockey
X-PUBLISHED-TTL:P1W
BEGIN:VEVENT
UID:69e79a8a725cf
DTSTART:20180716T023000Z
SEQUENCE:0
TRANSP:OPAQUE
DTEND:20180716T033000Z
URL:http://jmshockey.com/league/game/1385
LOCATION:Roseville Skating Center
SUMMARY:Dirty Mike and the Boys vs. Staal Tactics at Roseville Skating Cent
 er (Loon State Hockey Leagues)
CLASS:PUBLIC
DTSTAMP:20260421T104058Z
END:VEVENT
END:VCALENDAR