BEGIN:VCALENDAR
VERSION:2.0
PRODID:JMS Hockey
X-PUBLISHED-TTL:P1W
BEGIN:VEVENT
UID:69e79c00bf4f9
DTSTART:20180625T023000Z
SEQUENCE:0
TRANSP:OPAQUE
DTEND:20180625T033000Z
URL:http://jmshockey.com/league/game/1381
LOCATION:Roseville Skating Center
SUMMARY:Rubber Puckies vs. Staal Tactics at Roseville Skating Center (Loon 
 State Hockey Leagues)
CLASS:PUBLIC
DTSTAMP:20260421T104712Z
END:VEVENT
END:VCALENDAR